BEGIN:VCALENDAR
VERSION:2.0
PRODID:icalendar-ruby
CALSCALE:GREGORIAN
METHOD:PUBLISH
BEGIN:VEVENT
DTSTAMP:20260421T194016Z
UID:3aedd621-d7ff-4da4-900f-7bf1728c7df7
DTSTART:20250302T130000
DTEND:20250302T230000
DESCRIPTION:<p>Black Coffee Weekender (BRUNCH AFTERPARTY) - Cape Town 02 Ma
 rch 2025 </p>
LOCATION:Haul Rd\, V & A Waterfront\, Cape Town\,\, Cape Town\, Western Cap
 e\, 8002
SUMMARY:Black Coffee Weekender (BRUNCH AFTERPARTY) - Cape Town 02 March 202
 5 
URL;VALUE=URI:https://blackcoffeeweekender.howler.co.za/bcwbrunch25
END:VEVENT
END:VCALENDAR
