BEGIN:VCALENDAR
VERSION:2.0
PRODID:icalendar-ruby
CALSCALE:GREGORIAN
METHOD:PUBLISH
BEGIN:VEVENT
DTSTAMP:20260421T182747Z
UID:b945dc2c-6ae3-44b4-854b-ba3c75e14884
DTSTART:20270226T180000
DTEND:20270301T230000
DESCRIPTION:<h1><span>Experience The </span><span style="color: rgb(245\, 
 187\, 150)\;">Ultimate</span><span> Weekend Event</span></h1><p><span>Exp
 erience The Black Coffee Weekender – a premier three-day culture & music
  festival in Cape Town from 26 February to 27 February\, 2027.</span></p><
 p><br></p><p><span class="ql-cursor">﻿</span>Curated by Grammy-winning D
 J & Producer <strong>Black Coffee</strong>\, the weekender features a Cha
 rity Dinner on Friday\, Main Event on Saturday & Beach Brunch Afterparty o
 n Sunday. Past international artists include DJ\, producer and cultural ic
 on <strong>Peggy Gou</strong> and rising selector <strong>Jamiie</stron
 g> in 2026\, as well as the electronic trio and genre-blurring innovators
  <strong>WhoMadeWho</strong> alongside <strong>Meera</strong> in 2025.
  Watch this space for more info on the 2027 edition.</p><p><br></p>
SUMMARY:Black Coffee Weekender 2027 - Sign Up
URL;VALUE=URI:https://blackcoffeeweekender.howler.co.za/BCW27SU
END:VEVENT
END:VCALENDAR
